BEGIN:VCALENDAR
VERSION:2.0
PRODID:icalendar-ruby
CALSCALE:GREGORIAN
METHOD:PUBLISH
BEGIN:VTIMEZONE
TZID:Australia/Melbourne
BEGIN:DAYLIGHT
DTSTART:20201004T030000
TZOFFSETFROM:+1000
TZOFFSETTO:+1100
RRULE:FREQ=YEARLY;BYDAY=1SU;BYMONTH=10
TZNAME:AEDT
END:DAYLIGHT
BEGIN:STANDARD
DTSTART:20210404T020000
TZOFFSETFROM:+1100
TZOFFSETTO:+1000
RRULE:FREQ=YEARLY;BYDAY=1SU;BYMONTH=4
TZNAME:AEST
END:STANDARD
END:VTIMEZONE
BEGIN:VEVENT
DTSTAMP:20210226T101608Z
UID:inspection_924217
DTSTART;TZID=Australia/Melbourne:20210227T100000
DTEND;TZID=Australia/Melbourne:20210227T103000
CLASS:PUBLIC
CREATED:20210211T163059
DESCRIPTION: 
LAST-MODIFIED:20210211T163059
LOCATION:58 Gateshead Street\, CRAIGIEBURN VIC 3064\, Australia
SUMMARY:58 Gateshead Street\,  Inspection
URL:http://www.therealestestate.com.au/
END:VEVENT
END:VCALENDAR
