BEGIN:VCALENDAR
VERSION:2.0
PRODID:icalendar-ruby
CALSCALE:GREGORIAN
METHOD:PUBLISH
BEGIN:VTIMEZONE
TZID:Australia/Melbourne
BEGIN:DAYLIGHT
DTSTART:20201004T030000
TZOFFSETFROM:+1000
TZOFFSETTO:+1100
RRULE:FREQ=YEARLY;BYDAY=1SU;BYMONTH=10
TZNAME:AEDT
END:DAYLIGHT
BEGIN:STANDARD
DTSTART:20210404T020000
TZOFFSETFROM:+1100
TZOFFSETTO:+1000
RRULE:FREQ=YEARLY;BYDAY=1SU;BYMONTH=4
TZNAME:AEST
END:STANDARD
END:VTIMEZONE
BEGIN:VEVENT
DTSTAMP:20210226T103212Z
UID:inspection_931795
DTSTART;TZID=Australia/Melbourne:20210306T110000
DTEND;TZID=Australia/Melbourne:20210306T113000
CLASS:PUBLIC
CREATED:20210222T204647
DESCRIPTION: 
LAST-MODIFIED:20210222T204647
LOCATION:11 Overnewton Way\, WOLLERT VIC 3750\, Australia
SUMMARY:11 Overnewton Way\,  Inspection
URL:http://www.therealestestate.com.au/
END:VEVENT
END:VCALENDAR
