BEGIN:VCALENDAR
VERSION:2.0
PRODID:icalendar-ruby
CALSCALE:GREGORIAN
METHOD:PUBLISH
BEGIN:VTIMEZONE
TZID:Australia/Melbourne
BEGIN:DAYLIGHT
DTSTART:20201004T030000
TZOFFSETFROM:+1000
TZOFFSETTO:+1100
RRULE:FREQ=YEARLY;BYDAY=1SU;BYMONTH=10
TZNAME:AEDT
END:DAYLIGHT
BEGIN:STANDARD
DTSTART:20210404T020000
TZOFFSETFROM:+1100
TZOFFSETTO:+1000
RRULE:FREQ=YEARLY;BYDAY=1SU;BYMONTH=4
TZNAME:AEST
END:STANDARD
END:VTIMEZONE
BEGIN:VEVENT
DTSTAMP:20210226T102348Z
UID:inspection_932439
DTSTART;TZID=Australia/Melbourne:20210227T121000
DTEND;TZID=Australia/Melbourne:20210227T122500
CLASS:PUBLIC
CREATED:20210223T150353
DESCRIPTION: 
LAST-MODIFIED:20210223T150353
LOCATION:1 / 2 Peel Street\, WINDSOR VIC 3181\, Australia
SUMMARY:1 / 2 Peel Street\,  Inspection
URL:http://www.therealestestate.com.au/
END:VEVENT
END:VCALENDAR
