BEGIN:VCALENDAR
VERSION:2.0
PRODID:icalendar-ruby
CALSCALE:GREGORIAN
METHOD:PUBLISH
BEGIN:VTIMEZONE
TZID:Australia/Melbourne
BEGIN:DAYLIGHT
DTSTART:20201004T030000
TZOFFSETFROM:+1000
TZOFFSETTO:+1100
RRULE:FREQ=YEARLY;BYDAY=1SU;BYMONTH=10
TZNAME:AEDT
END:DAYLIGHT
BEGIN:STANDARD
DTSTART:20210404T020000
TZOFFSETFROM:+1100
TZOFFSETTO:+1000
RRULE:FREQ=YEARLY;BYDAY=1SU;BYMONTH=4
TZNAME:AEST
END:STANDARD
END:VTIMEZONE
BEGIN:VEVENT
DTSTAMP:20210226T102311Z
UID:inspection_933951
DTSTART;TZID=Australia/Melbourne:20210227T105500
DTEND;TZID=Australia/Melbourne:20210227T111000
CLASS:PUBLIC
CREATED:20210224T185805
DESCRIPTION: 
LAST-MODIFIED:20210224T185805
LOCATION:16 Melville Road\, BRUNSWICK WEST VIC 3055\, Australia
SUMMARY:16 Melville Road\,  Inspection
URL:http://www.therealestestate.com.au/
END:VEVENT
END:VCALENDAR
