BEGIN:VCALENDAR
VERSION:2.0
PRODID:icalendar-ruby
CALSCALE:GREGORIAN
METHOD:PUBLISH
BEGIN:VEVENT
DTSTAMP:20260421T210421Z
UID:http://www.therealestestate.com.au/property?property_id=1762663
DTSTART:20260530T140000
DTEND:20260530T143000
CLASS:PUBLIC
CREATED:20260421T093557
DESCRIPTION: 
LAST-MODIFIED:20260422T011211
LOCATION:1 / 48 Martins Lane\, VIEWBANK VIC 3084\, Australia
SUMMARY:1 / 48 Martins Lane\,  Auction
URL;VALUE=URI:http://www.therealestestate.com.au/property?property_id=17626
 63
END:VEVENT
END:VCALENDAR
