BEGIN:VCALENDAR
VERSION:2.0
PRODID:icalendar-ruby
CALSCALE:GREGORIAN
METHOD:PUBLISH
BEGIN:VEVENT
DTSTAMP:20260423T103940Z
UID:http://www.therealestestate.com.au/property?property_id=1764932
DTSTART:20260523T120000
DTEND:20260523T123000
CLASS:PUBLIC
CREATED:20260423T093205
DESCRIPTION: 
LAST-MODIFIED:20260423T203157
LOCATION:1 / 80 West Street\, HADFIELD VIC 3046\, Australia
SUMMARY:1 / 80 West Street\,  Auction
URL;VALUE=URI:http://www.therealestestate.com.au/property?property_id=17649
 32
END:VEVENT
END:VCALENDAR
