BEGIN:VCALENDAR
VERSION:2.0
PRODID:icalendar-ruby
CALSCALE:GREGORIAN
METHOD:PUBLISH
BEGIN:VEVENT
DTSTAMP:20210226T103801Z
UID:http://www.therealestestate.com.au/property?property_id=460731
DTSTART:20200613T113000
DTEND:20200613T120000
CLASS:PUBLIC
CREATED:20190919T113415
DESCRIPTION: 
LAST-MODIFIED:20200614T155200
LOCATION:2 / 46 Murray Street\, BRUNSWICK WEST VIC 3055\, Australia
SUMMARY:2 / 46 Murray Street\,  Auction
URL:http://www.therealestestate.com.au/property?property_id=460731
END:VEVENT
END:VCALENDAR
