BEGIN:VCALENDAR
VERSION:2.0
PRODID:icalendar-ruby
CALSCALE:GREGORIAN
METHOD:PUBLISH
BEGIN:VEVENT
DTSTAMP:20210226T103722Z
UID:http://www.therealestestate.com.au/property?property_id=530665
DTSTART:20200704T123000
DTEND:20200704T130000
CLASS:PUBLIC
CREATED:20200217T103828
DESCRIPTION: 
LAST-MODIFIED:20200822T202540
LOCATION:2 / 90 Saltlake Boulevard\, WOLLERT VIC 3750\, Australia
SUMMARY:2 / 90 Saltlake Boulevard\,  Auction
URL:http://www.therealestestate.com.au/property?property_id=530665
END:VEVENT
END:VCALENDAR
