BEGIN:VCALENDAR
VERSION:2.0
PRODID:icalendar-ruby
CALSCALE:GREGORIAN
METHOD:PUBLISH
BEGIN:VEVENT
DTSTAMP:20210226T103732Z
UID:http://www.therealestestate.com.au/property?property_id=553537
DTSTART:20200704T143000
DTEND:20200704T150000
CLASS:PUBLIC
CREATED:20200417T082541
DESCRIPTION: 
LAST-MODIFIED:20200813T110226
LOCATION:88 Mount View Road\, LALOR VIC 3075\, Australia
SUMMARY:88 Mount View Road\,  Auction
URL:http://www.therealestestate.com.au/property?property_id=553537
END:VEVENT
END:VCALENDAR
