BEGIN:VCALENDAR
VERSION:2.0
PRODID:icalendar-ruby
CALSCALE:GREGORIAN
METHOD:PUBLISH
BEGIN:VEVENT
DTSTAMP:20210226T103434Z
UID:http://www.therealestestate.com.au/property?property_id=557237
DTSTART:20200801T143000
DTEND:20200801T150000
CLASS:PUBLIC
CREATED:20200501T121943
DESCRIPTION: 
LAST-MODIFIED:20201013T134253
LOCATION:22 Longview Street\, PASCOE VALE VIC 3044\, Australia
SUMMARY:22 Longview Street\,  Auction
URL:http://www.therealestestate.com.au/property?property_id=557237
END:VEVENT
END:VCALENDAR
