BEGIN:VCALENDAR
VERSION:2.0
PRODID:icalendar-ruby
CALSCALE:GREGORIAN
METHOD:PUBLISH
BEGIN:VEVENT
DTSTAMP:20210226T103629Z
UID:http://www.therealestestate.com.au/property?property_id=583715
DTSTART:20201114T123000
DTEND:20201114T130000
CLASS:PUBLIC
CREATED:20200626T120906
DESCRIPTION: 
LAST-MODIFIED:20201114T141749
LOCATION:2 / 13 Rodney Avenue\, COBURG NORTH VIC 3058\, Australia
SUMMARY:2 / 13 Rodney Avenue\,  Auction
URL:http://www.therealestestate.com.au/property?property_id=583715
END:VEVENT
END:VCALENDAR
