BEGIN:VCALENDAR
VERSION:2.0
PRODID:icalendar-ruby
CALSCALE:GREGORIAN
METHOD:PUBLISH
BEGIN:VEVENT
DTSTAMP:20210226T103740Z
UID:http://www.therealestestate.com.au/property?property_id=591351
DTSTART:20200801T123000
DTEND:20200801T130000
CLASS:PUBLIC
CREATED:20200709T132441
DESCRIPTION: 
LAST-MODIFIED:20200803T091325
LOCATION:2 / 848 Sydney Road\, COBURG NORTH VIC 3058\, Australia
SUMMARY:2 / 848 Sydney Road\,  Auction
URL:http://www.therealestestate.com.au/property?property_id=591351
END:VEVENT
END:VCALENDAR
