BEGIN:VCALENDAR
VERSION:2.0
PRODID:icalendar-ruby
CALSCALE:GREGORIAN
METHOD:PUBLISH
BEGIN:VEVENT
DTSTAMP:20210226T103643Z
UID:http://www.therealestestate.com.au/property?property_id=607793
DTSTART:20201031T140000
DTEND:20201031T143000
CLASS:PUBLIC
CREATED:20200810T181331
DESCRIPTION: 
LAST-MODIFIED:20201109T123757
LOCATION:1 / 3 McCracken Avenue\, PASCOE VALE VIC 3044\, Australia
SUMMARY:1 / 3 McCracken Avenue\,  Auction
URL:http://www.therealestestate.com.au/property?property_id=607793
END:VEVENT
END:VCALENDAR
