BEGIN:VCALENDAR
VERSION:2.0
PRODID:icalendar-ruby
CALSCALE:GREGORIAN
METHOD:PUBLISH
BEGIN:VEVENT
DTSTAMP:20210226T103611Z
UID:http://www.therealestestate.com.au/property?property_id=622869
DTSTART:20201024T123000
DTEND:20201024T130000
CLASS:PUBLIC
CREATED:20200908T134853
DESCRIPTION: 
LAST-MODIFIED:20201202T162031
LOCATION:10 / 848 Sydney Road\, COBURG NORTH VIC 3058\, Australia
SUMMARY:10 / 848 Sydney Road\,  Auction
URL:http://www.therealestestate.com.au/property?property_id=622869
END:VEVENT
END:VCALENDAR
