BEGIN:VCALENDAR
VERSION:2.0
PRODID:icalendar-ruby
CALSCALE:GREGORIAN
METHOD:PUBLISH
BEGIN:VEVENT
DTSTAMP:20210226T103706Z
UID:http://www.therealestestate.com.au/property?property_id=624339
DTSTART:20200704T120000
DTEND:20200704T123000
CLASS:PUBLIC
CREATED:20200911T165157
DESCRIPTION: 
LAST-MODIFIED:20200918T095608
LOCATION:88 Mount View Road\, LALOR VIC 3075\, Australia
SUMMARY:88 Mount View Road\,  Auction
URL:http://www.therealestestate.com.au/property?property_id=624339
END:VEVENT
END:VCALENDAR
