BEGIN:VCALENDAR
VERSION:2.0
PRODID:icalendar-ruby
CALSCALE:GREGORIAN
METHOD:PUBLISH
BEGIN:VEVENT
DTSTAMP:20210226T103537Z
UID:http://www.therealestestate.com.au/property?property_id=659606
DTSTART:20201212T120000
DTEND:20201212T123000
CLASS:PUBLIC
CREATED:20201103T201139
DESCRIPTION: 
LAST-MODIFIED:20201212T203700
LOCATION:2 / 2 Virginia Street\, PASCOE VALE VIC 3044\, Australia
SUMMARY:2 / 2 Virginia Street\,  Auction
URL:http://www.therealestestate.com.au/property?property_id=659606
END:VEVENT
END:VCALENDAR
