BEGIN:VCALENDAR
VERSION:2.0
PRODID:icalendar-ruby
CALSCALE:GREGORIAN
METHOD:PUBLISH
BEGIN:VEVENT
DTSTAMP:20210226T103550Z
UID:http://www.therealestestate.com.au/property?property_id=660380
DTSTART:20201212T140000
DTEND:20201212T143000
CLASS:PUBLIC
CREATED:20201106T105257
DESCRIPTION: 
LAST-MODIFIED:20201210T134410
LOCATION:4 / 3 McCracken Avenue\, PASCOE VALE VIC 3044\, Australia
SUMMARY:4 / 3 McCracken Avenue\,  Auction
URL:http://www.therealestestate.com.au/property?property_id=660380
END:VEVENT
END:VCALENDAR
