BEGIN:VCALENDAR
VERSION:2.0
PRODID:icalendar-ruby
CALSCALE:GREGORIAN
METHOD:PUBLISH
BEGIN:VEVENT
DTSTAMP:20210226T103528Z
UID:http://www.therealestestate.com.au/property?property_id=668624
DTSTART:20201219T123000
DTEND:20201219T130000
CLASS:PUBLIC
CREATED:20201127T145843
DESCRIPTION: 
LAST-MODIFIED:20201223T154456
LOCATION:78 Excelsior Heights\, CRAIGIEBURN VIC 3064\, Australia
SUMMARY:78 Excelsior Heights\,  Auction
URL:http://www.therealestestate.com.au/property?property_id=668624
END:VEVENT
END:VCALENDAR
