BEGIN:VCALENDAR
VERSION:2.0
PRODID:icalendar-ruby
CALSCALE:GREGORIAN
METHOD:PUBLISH
BEGIN:VEVENT
DTSTAMP:20210226T103505Z
UID:http://www.therealestestate.com.au/property?property_id=691030
DTSTART:20210227T113000
DTEND:20210227T120000
CLASS:PUBLIC
CREATED:20210202T094306
DESCRIPTION: 
LAST-MODIFIED:20210219T193710
LOCATION:68 Station Avenue\, ST ALBANS VIC 3021\, Australia
SUMMARY:68 Station Avenue\,  Auction
URL:http://www.therealestestate.com.au/property?property_id=691030
END:VEVENT
END:VCALENDAR
