BEGIN:VCALENDAR
VERSION:2.0
PRODID:icalendar-ruby
CALSCALE:GREGORIAN
METHOD:PUBLISH
BEGIN:VEVENT
DTSTAMP:20210226T103310Z
UID:http://www.therealestestate.com.au/property?property_id=691339
DTSTART:20210227T143000
DTEND:20210227T150000
CLASS:PUBLIC
CREATED:20210202T220831
DESCRIPTION: 
LAST-MODIFIED:20210215T124051
LOCATION:5 / 66 Bolingbroke Street\, PASCOE VALE VIC 3044\, Australia
SUMMARY:5 / 66 Bolingbroke Street\,  Auction
URL:http://www.therealestestate.com.au/property?property_id=691339
END:VEVENT
END:VCALENDAR
