BEGIN:VCALENDAR
VERSION:2.0
PRODID:icalendar-ruby
CALSCALE:GREGORIAN
METHOD:PUBLISH
BEGIN:VEVENT
DTSTAMP:20210226T103251Z
UID:http://www.therealestestate.com.au/property?property_id=692286
DTSTART:20210306T143000
DTEND:20210306T150000
CLASS:PUBLIC
CREATED:20210205T140249
DESCRIPTION: 
LAST-MODIFIED:20210212T150526
LOCATION:548 Barry Road\, COOLAROO VIC 3048\, Australia
SUMMARY:548 Barry Road\,  Auction
URL:http://www.therealestestate.com.au/property?property_id=692286
END:VEVENT
END:VCALENDAR
