BEGIN:VCALENDAR
VERSION:2.0
PRODID:icalendar-ruby
CALSCALE:GREGORIAN
METHOD:PUBLISH
BEGIN:VEVENT
DTSTAMP:20210226T103223Z
UID:http://www.therealestestate.com.au/property?property_id=693047
DTSTART:20210313T093000
DTEND:20210313T100000
CLASS:PUBLIC
CREATED:20210209T095249
DESCRIPTION: 
LAST-MODIFIED:20210212T135738
LOCATION:58 Gateshead Street\, CRAIGIEBURN VIC 3064\, Australia
SUMMARY:58 Gateshead Street\,  Auction
URL:http://www.therealestestate.com.au/property?property_id=693047
END:VEVENT
END:VCALENDAR
